BEGIN:VCALENDAR
VERSION:2.0
PRODID:nkc_event TYPO3 Extension
METHOD:PUBLISH
BEGIN:VEVENT
UID:353376f9a280c49830da43b60784a1d3
LOCATION:St. Ansgar - Mürwik
SUMMARY:Hl. Messe
DESCRIPTION:
CLASS:PUBLIC
DTSTART:20260422T070000Z
DTEND:20260422T080000Z
DTSTAMP:20260420T042417Z
END:VEVENT

END:VCALENDAR