BEGIN:VCALENDAR
VERSION:2.0
PRODID:nkc_event TYPO3 Extension
METHOD:PUBLISH
BEGIN:VEVENT
UID:02e6e34eba6a4da2a4a489e8753c69e0
LOCATION:Lübeck
SUMMARY:Psalmen erzählen - 2. Bibelerzählforum der Nordkirche
DESCRIPTION:Bibelerzählforum und Vernetzungstreffen für ausgebildete Bibelerzähler":"innenMehr Infos kommen auf www.netzwerk-bibelerzählen.de und  www.gottesdienstkultur.de
CLASS:PUBLIC
DTSTART:20260613T080000Z
DTEND:20260613T090000Z
DTSTAMP:20260425T050534Z
END:VEVENT

END:VCALENDAR