BEGIN:VCALENDAR
VERSION:2.0
PRODID:nkc_event TYPO3 Extension
METHOD:PUBLISH
BEGIN:VEVENT
UID:c896b049170dca69bfd8898923e2d777
LOCATION:Heiligengeist\, St. Ansgarkirche
SUMMARY:Predigtgottesdienst
DESCRIPTION:
CLASS:PUBLIC
DTSTART:20260517T080000Z
DTEND:20260517T090000Z
DTSTAMP:20260423T095038Z
END:VEVENT

END:VCALENDAR