BEGIN:VCALENDAR
VERSION:2.0
PRODID:nkc_event TYPO3 Extension
METHOD:PUBLISH
BEGIN:VEVENT
UID:291f975cbc65b292561e8498b90fb814
LOCATION:Kirche Neukirchen
SUMMARY:Festgottesdienst zur Konfirmation
DESCRIPTION:
CLASS:PUBLIC
DTSTART:20260510T090000Z
DTEND:20260510T100000Z
DTSTAMP:20260424T104838Z
END:VEVENT

END:VCALENDAR