BEGIN:VCALENDAR
VERSION:2.0
PRODID:nkc_event TYPO3 Extension
METHOD:PUBLISH
BEGIN:VEVENT
UID:65513e767d955a6cbdfcc06ea777287f
LOCATION:St. Marien - Schmerzhafte Mutter
SUMMARY:Hl. Messe in polnischer Sprache
DESCRIPTION:
CLASS:PUBLIC
DTSTART:20260425T143000Z
DTEND:20260425T153000Z
DTSTAMP:20260423T141916Z
END:VEVENT

END:VCALENDAR