BEGIN:VCALENDAR
VERSION:2.0
PRODID:nkc_event TYPO3 Extension
METHOD:PUBLISH
BEGIN:VEVENT
UID:4bccf5e3270f15966bafed8692bdc2e6
LOCATION:St. Marien - Schmerzhafte Mutter
SUMMARY:Hl. Messe
DESCRIPTION:
CLASS:PUBLIC
DTSTART:20260427T160000Z
DTEND:20260427T170000Z
DTSTAMP:20260423T141807Z
END:VEVENT

END:VCALENDAR