BEGIN:VCALENDAR
VERSION:2.0
PRODID:nkc_event TYPO3 Extension
METHOD:PUBLISH
BEGIN:VEVENT
UID:6251f6e5fc12a0c98fde54241554fc96
LOCATION:Lutherhaus Kiel
SUMMARY:Männergruppe
DESCRIPTION:
CLASS:PUBLIC
DTSTART:20260513T173000Z
DTEND:20260513T200000Z
DTSTAMP:20260422T123423Z
END:VEVENT

END:VCALENDAR