BEGIN:VCALENDAR
VERSION:2.0
PRODID:nkc_event TYPO3 Extension
METHOD:PUBLISH
BEGIN:VEVENT
UID:6624ef107ff593653cc373e3fdcee51c
LOCATION:St. Marien Sörup
SUMMARY:Gottesdienst mit Abendmahl
DESCRIPTION:
CLASS:PUBLIC
DTSTART:20260503T080000Z
DTEND:20260503T090000Z
DTSTAMP:20260424T104841Z
END:VEVENT

END:VCALENDAR