BEGIN:VCALENDAR
VERSION:2.0
PRODID:nkc_event TYPO3 Extension
METHOD:PUBLISH
BEGIN:VEVENT
UID:6bbaaff83098b871c6a0bc6efd1e407b
LOCATION:Hauptkirche St. Katharinen
SUMMARY:Fossil free Africa!
DESCRIPTION:Warum fossile Energien in Afrika die SDGs gefährden.© Justin Mutabesha | MisereorViele afrikanische Länder bieten ideale Bedingungen für Energie aus Sonne und Wind. Trotzdem planen Energiekonzerne dort massive Investition in die Ausbeutung von Öl und Gas. Was bedeutet das für Menschen in Ländern wie Mosambik und Uganda? Wie blickt die afrikanische Klimabewegung auf diese Entwicklung? Und wie kann eine Energiezukunft gelingen in der soziale Gerechtigkeit und Menschenrechte verwirklicht sind? Eine Podiumsdiskussion mit Vertretern der afrikanischen Zivilgesellschaft. Mitwirkende":"Antonio Muagerene\, Direktor Caritas Napulo/ MosambikNicholas Omonuk\, Klimaaktivist\, End Fossil Occupay/Uganda Moderation":"Gesine Ames\, Referentin für Afrika und Klimagerechtigkeit\, Misereor/Deutschland In Kooperation mit":"Misereor e.V. Mehr Informationen bei misereor.de
CLASS:PUBLIC
DTSTART:20250603T150000Z
DTEND:20250603T160000Z
DTSTAMP:20260425T185553Z
END:VEVENT

END:VCALENDAR