BEGIN:VCALENDAR
VERSION:2.0
PRODID:nkc_event TYPO3 Extension
METHOD:PUBLISH
BEGIN:VEVENT
UID:4c60167334a4cd5286d4124c0c07ae32
LOCATION:St. Andreas Kirche Haddeby
SUMMARY:Gottesdienst (3.So. n. Trinitatis)
DESCRIPTION:
CLASS:PUBLIC
DTSTART:20260621T080000Z
DTEND:20260621T090000Z
DTSTAMP:20260422T014124Z
END:VEVENT

END:VCALENDAR