BEGIN:VCALENDAR
VERSION:2.0
PRODID:nkc_event TYPO3 Extension
METHOD:PUBLISH
BEGIN:VEVENT
UID:d324e193cb6ebc2f325b9f67a79e67af
LOCATION:Kapelle St. Josef
SUMMARY:Hl. Messe
DESCRIPTION:
CLASS:PUBLIC
DTSTART:20260421T160000Z
DTEND:20260421T170000Z
DTSTAMP:20260420T043902Z
END:VEVENT

END:VCALENDAR