BEGIN:VCALENDAR
VERSION:2.0
PRODID:nkc_event TYPO3 Extension
METHOD:PUBLISH
BEGIN:VEVENT
UID:78ddde713210756c3f16b2e2a5c7a2fd
LOCATION:Kreuzkirche Henstedt-Ulzburg
SUMMARY:Ev. Messe zum Pfingstsonntag / Kirchweihfest\, P. Krüger\, Kantorei\, Kinderchor
DESCRIPTION:
CLASS:PUBLIC
DTSTART:20260524T080000Z
DTEND:20260524T090000Z
DTSTAMP:20260422T090902Z
END:VEVENT

END:VCALENDAR