BEGIN:VCALENDAR
VERSION:2.0
PRODID:nkc_event TYPO3 Extension
METHOD:PUBLISH
BEGIN:VEVENT
UID:df0678404d2e8b33d318201853d0cfac
LOCATION:Nikolaikirche
SUMMARY:DQUOTEMythen\, Glaube\, SpiritualitätDQUOTE - KI zieht in die Kirche ein
DESCRIPTION:Unter dem Titel DQUOTEMythen\, Glaube\, SpiritualitätDQUOTE werden wir durch die Ausstellung geführt\, voraussichtlich unter Beteiligung ausstellender Künstler*innen und kommen anschließend zu Fragen von Theologie\, KI und Gesellschaft miteinander ins Gespräch.YES AI CAN ist eine digitale Kunstausstellung und ein Festival für zeitgenössische Kunst und Künstliche Intelligenz.In der Nikolaikirche treffen zeitgenössische Kunst\, digitale Technologien und gesellschaftliche Fragen aufeinander. Künstlerische Arbeiten setzen sich mit Künstlicher Intelligenz\, Daten\, Algorithmen und maschinellen Prozessen auseinander – und damit mit Themen\, die unseren Alltag zunehmend prägen.Im Mittelpunkt stehen Fragen nach dem Verhältnis von Mensch und Maschine\, nach Wahrnehmung und Wahrheit sowie nach den Auswirkungen digitaler Technologien auf Alltag\, Kommunikation und Gesellschaft. Der sakrale Raum wird dabei nicht als Kulisse genutzt\, sondern als Resonanzraum für zeitgenössische Kunst\, die bestehende Gewissheiten befragt und neue Perspektiven eröffnet.
CLASS:PUBLIC
DTSTART:20260508T123000Z
DTEND:20260508T143000Z
DTSTAMP:20260424T122608Z
END:VEVENT

END:VCALENDAR