BEGIN:VCALENDAR
VERSION:2.0
PRODID:nkc_event TYPO3 Extension
METHOD:PUBLISH
BEGIN:VEVENT
UID:e609faaaeffcb82719d175d9fdf717c0
LOCATION:Andreaskirche Seth
SUMMARY:Gottesdienst\, Pastor Schott
DESCRIPTION:
CLASS:PUBLIC
DTSTART:20260524T090000Z
DTEND:20260524T100000Z
DTSTAMP:20260423T141822Z
END:VEVENT

END:VCALENDAR