BEGIN:VCALENDAR
VERSION:2.0
PRODID:nkc_event TYPO3 Extension
METHOD:PUBLISH
BEGIN:VEVENT
UID:d4af7ac623938d164e5b86d0fc2340ed
LOCATION:Hl Dreieinigkeitskirche (St. Georgskirche)
SUMMARY:Kirchenöffnung zur Ausstellung This is me! - Queer und religiös?
DESCRIPTION:
CLASS:PUBLIC
DTSTART:20260620T100000Z
DTEND:20260620T120000Z
DTSTAMP:20260420T080900Z
END:VEVENT

END:VCALENDAR