BEGIN:VCALENDAR
VERSION:2.0
PRODID:nkc_event TYPO3 Extension
METHOD:PUBLISH
BEGIN:VEVENT
UID:43661b46a260e1b8c020cf995e19ebdf
LOCATION:Online
SUMMARY:Bibel feministisch gelesen
DESCRIPTION:„Nicht männlich und weiblich“ (Brief an die Gemeinden in Galatien 3\,26–28)Die Taufformel aus dem Brief des Paulus ist ein zentraler Text für die Überwindung gesellschaftlicher Ungleichheiten. In den ersten Gemeinden war sie mit einer gerechten Praxis verbunden. So waren Frauen und Männer in allen gemeindlichen Funktionen vertreten. In der neueren Diskussion ist der Bibelvers zentraler Anknüpfungspunkt für die Gleichheit aller Geschlechter und wird als Hinweis auf eine Überwindung der Zweigeschlechtlichkeit gelesen.Die Online-Bibelwerkstatt ist offen für alle interessierten Frauen. Die Teilnahme ist kostenfrei und erfordert keine Vorkenntnisse.
CLASS:PUBLIC
DTSTART:20260506T170000Z
DTEND:20260506T183000Z
DTSTAMP:20260422T102528Z
END:VEVENT

END:VCALENDAR