BEGIN:VCALENDAR
VERSION:2.0
PRODID:nkc_event TYPO3 Extension
METHOD:PUBLISH
BEGIN:VEVENT
UID:9d6292091a83399c0ae086707194216f
LOCATION:Kompassgemeinde Kirche DQUOTEZum guten HirtenDQUOTE Pries
SUMMARY:Gottesdienst im Anschluss Gemeindeversammlung und Ehrenamtsfest
DESCRIPTION:Im Anschluss findet nach kurzer Pause die Gemeindeversammlung statt\, gefogt vom Ehrenamtsfest
CLASS:PUBLIC
DTSTART:20260426T080000Z
DTEND:20260426T090000Z
DTSTAMP:20260422T103758Z
END:VEVENT

END:VCALENDAR