BEGIN:VCALENDAR
VERSION:2.0
PRODID:nkc_event TYPO3 Extension
METHOD:PUBLISH
BEGIN:VEVENT
UID:2aa44dd3a6199d9748d525fed67ea918
LOCATION:https://www.youtube.com/watch?v=a2wc1QQ_LEk
SUMMARY:Gottesdienst Christuskirche
DESCRIPTION:
CLASS:PUBLIC
DTSTART:20260329T080000Z
DTEND:20260329T090000Z
DTSTAMP:20260423T102826Z
END:VEVENT

END:VCALENDAR