BEGIN:VCALENDAR
VERSION:2.0
PRODID:nkc_event TYPO3 Extension
METHOD:PUBLISH
BEGIN:VEVENT
UID:1f298ca90f75509bf6798a8d152351ac
LOCATION:St. Andreas Kirche Haddeby
SUMMARY:Gottesdienst mit Vorstellung unserer Konfirmanden*innen
DESCRIPTION:
CLASS:PUBLIC
DTSTART:20260503T080000Z
DTEND:20260503T090000Z
DTSTAMP:20260422T020543Z
END:VEVENT

END:VCALENDAR