BEGIN:VCALENDAR
VERSION:2.0
PRODID:nkc_event TYPO3 Extension
METHOD:PUBLISH
BEGIN:VEVENT
UID:27c78e112d1ae4ae4081bed53a56f9e4
LOCATION:Kompassgemeinde Kirche DQUOTEZum guten HirtenDQUOTE Pries
SUMMARY:Kulturhistorischer Kirchenrundgang  Pries-Friedrichsort (VHS)
DESCRIPTION:VHS-Kursnummer":" 26F15012Erkunden Sie die Kirchen und Friedhöfe der noch jungen\, doch traditionsreichen Kompass-Gemeinde\, zu der sich die Kirchengemeinden in Altenholz\, Schilksee\, Pries-Friedrichsort und Holtenau 2025 zusammengeschlossen haben.Kulturgeschichtlicher Spaziergang in der Kompass-Kirchengemeinde I":" Pries und Friedrichsort - Rund um die Kirche „Zum guten Hirten“ und die historischen FriedhöfeProgramm":"Der heutige Kieler Stadtteil Pries-Friedrichsort blickt auf eine lange Geschichte zurück\, die mit dem Bau der Festung Christianspries (später Friedrichsort) durch den dänischen König im 17. Jahrhundert begann\, lange durch seinen Status als Garnison durch das Militär geprägt war und erst 1922 nach Kiel eingemeindet wurde.Die als Kulturdenkmal eingestufte Prieser Kirche in Pries ist zusammen mit dem Pastorat nach Plänen des Architekten Kuno von Pentz 1910-1911 als Ensemble im sogenannten Stil der Heimatschutzarchitektur für das damalige evangelische Marinepfarramt Pries-Friedrichsort errichtet worden. In unmittelbarer Nachbarschaft entstand auf Initiative des damaligen Pastors Carl Lensch ein neuer\, mehrfach erweiterter Friedhof.Der ehemalige Garnisonfriedhof Friedrichsort dagegen entstand bereits 1632-43 zusammen mit der Festung als Ruhestätte überwiegend für Verstorbene des Militärs.Die Kirchen und Friedhöfe in Pries und Friedrichsort spiegeln ein Stück norddeutscher Architekturgeschichte wider und erinnern an die verwickelte (Kirchen-) Geschichte Schleswig-Holsteins.Treffpunkt":" Kirche DQUOTEZum guten HirtenDQUOTE\, Friedrichsorter Straße 22\, 24159 Kiel \, 24159 Kiel-Friedrichsort
CLASS:PUBLIC
DTSTART:20260503T120000Z
DTEND:20260503T140000Z
DTSTAMP:20260424T122608Z
END:VEVENT

END:VCALENDAR