BEGIN:VCALENDAR
VERSION:2.0
PRODID:nkc_event TYPO3 Extension
METHOD:PUBLISH
BEGIN:VEVENT
UID:d4f20ed86b6f3fa46327bfce383873a8
LOCATION:Marienkirche Esgrus
SUMMARY:Sitzen in der Stille
DESCRIPTION:Jeden Mittwoch von 17.30 – 18.30 Uhr treffen wir uns in der St Marienkirche in Esgrus.Bitte warme\, bequeme Kleidung und dicke Socken mitbringen.Kontakt":" Marie -Luise JürgensenTel":" 04643 – 2388
CLASS:PUBLIC
DTSTART:20260513T153000Z
DTEND:20260513T163000Z
DTSTAMP:20260422T111737Z
END:VEVENT

END:VCALENDAR