BEGIN:VCALENDAR
VERSION:2.0
PRODID:nkc_event TYPO3 Extension
METHOD:PUBLISH
BEGIN:VEVENT
UID:825ca1f32db50b59ac5cd2cc6012ffb1
LOCATION:Vicelin-Kirche St. Jakobi
SUMMARY:Literaturgottesdienst mit Pn Egener
DESCRIPTION:
CLASS:PUBLIC
DTSTART:20260517T080000Z
DTEND:20260517T090000Z
DTSTAMP:20260423T171021Z
END:VEVENT

END:VCALENDAR