BEGIN:VCALENDAR
VERSION:2.0
PRODID:nkc_event TYPO3 Extension
METHOD:PUBLISH
BEGIN:VEVENT
UID:cd1f691bdc34bc5e2eb4edd10efca311
LOCATION:Hauptkirche St. Jacobi
SUMMARY:Orgelkonzert Sietze de Vries (Groningen\, NL)
DESCRIPTION:Matthias Weckmann\, 1616–1674Es ist das Heÿl uns kommen herSietze de Vries\, *1973Improvisationen an Kemper- und Arp-Schnitger-Orgel
CLASS:PUBLIC
DTSTART:20260818T180000Z
DTEND:20260818T190000Z
DTSTAMP:20260420T180843Z
END:VEVENT

END:VCALENDAR