BEGIN:VCALENDAR
VERSION:2.0
PRODID:nkc_event TYPO3 Extension
METHOD:PUBLISH
BEGIN:VEVENT
UID:6653d2468f18facbfbea029f9acd351a
LOCATION:Propst-Torp-Haus (Gemeindehaus) Glücksburg
SUMMARY:DQUOTEEinfach mal raus":" Treffen\, reden\, lachenDQUOTE - Herzliche Einladung!
DESCRIPTION:
CLASS:PUBLIC
DTSTART:20260630T130000Z
DTEND:20260630T143000Z
DTSTAMP:20260426T021541Z
END:VEVENT

END:VCALENDAR