BEGIN:VCALENDAR
VERSION:2.0
PRODID:nkc_event TYPO3 Extension
METHOD:PUBLISH
BEGIN:VEVENT
UID:4d4c2b52bc3e8fec93355fa6c031c882
LOCATION:https://eu01web.zoom.us/j/64021140101?pwd=GFTHgUOAPJqbmXqfS5y6LOMWHo1pvL.1
SUMMARY:Online- Friedensgebet
DESCRIPTION:Herzliche EInladung immer montags um 18 UhrFür ca 15-20 MinutenInfos dazu im frauenwerk@kirche-slfl.de
CLASS:PUBLIC
DTSTART:20260420T160000Z
DTEND:20260420T170000Z
DTSTAMP:20260420T114814Z
END:VEVENT

END:VCALENDAR