BEGIN:VCALENDAR
VERSION:2.0
PRODID:nkc_event TYPO3 Extension
METHOD:PUBLISH
BEGIN:VEVENT
UID:0e0aee12fa6c242a3c70c14ad4cfe1e4
LOCATION:Offene Kirche St. Nikolai in Kiel
SUMMARY:Die Halbe Stunde
DESCRIPTION:Vielfältige Konzertreihe von Musik aller Stile und Epochen.Wöchentlich wechselnde Künstler*innen und wechselndes Programm. Der Eintritt ist frei.
CLASS:PUBLIC
DTSTART:20260513T150000Z
DTEND:20260513T153000Z
DTSTAMP:20260424T122525Z
END:VEVENT

END:VCALENDAR