BEGIN:VCALENDAR
VERSION:2.0
PRODID:nkc_event TYPO3 Extension
METHOD:PUBLISH
BEGIN:VEVENT
UID:3986dccda82468da35e7ec5c86a720ce
LOCATION:Hauptkirche St. Jacobi
SUMMARY:Arp-Schnitger-Orgelführung
DESCRIPTION:
CLASS:PUBLIC
DTSTART:20260730T100000Z
DTEND:20260730T110000Z
DTSTAMP:20260420T180825Z
END:VEVENT

END:VCALENDAR