BEGIN:VCALENDAR
VERSION:2.0
PRODID:nkc_event TYPO3 Extension
METHOD:PUBLISH
BEGIN:VEVENT
UID:706ec8253f3d48ccc82f822d438f2255
LOCATION:Baumkirche Kolonistenhof
SUMMARY:Open-Air Gottesdienst an Christi Himmelfahrt in der Baumkirche auf dem Kolonistenhof mit anschließendem Fest
DESCRIPTION:An Christi Himmelfahrt lädt die Kirchengemeinde Rendsburg zu einem Gottesdienst unter freiem Himmel in die Baumkirche ein. Er steht unter dem Motto „Über den Wolken“ und wird gestaltet von Diakon Carsten Gallinat\, Pastorin Claudia Heynen und dem Rendsburger Posaunenchor unter Leitung von Reinhard Noeske. Anschließend laden wir zu einem kleinen Fest auf dem Hof ein. Dort können Sie es sich gemeinsam mit anderen auf dem Hofplatz unter der Eiche gut gehen lassen – bei Würstchen vom Grill\, Brötchen aus dem Backhaus\, Kaffee und selbstgebackenem Kuchen. Alles Essen und Trinken sind frei\, um eine Spende wird gebeten. Der Gottesdienst auf findet bei jedem Wetter statt (bei Regen auf dem Hofplatz unter dem Dach der Remise).  
CLASS:PUBLIC
DTSTART:20260514T083000Z
DTEND:20260514T093000Z
DTSTAMP:20260425T101739Z
END:VEVENT

END:VCALENDAR