BEGIN:VCALENDAR
VERSION:2.0
PRODID:nkc_event TYPO3 Extension
METHOD:PUBLISH
BEGIN:VEVENT
UID:0711133cadeb324045161263f7a19170
LOCATION:Hauptkirche St. Michaelis
SUMMARY:Singen Hören Staunen
DESCRIPTION:Singen Hören Staunen
CLASS:PUBLIC
DTSTART:20251130T140000Z
DTEND:20251130T150000Z
DTSTAMP:20260420T044512Z
END:VEVENT

END:VCALENDAR