BEGIN:VCALENDAR
VERSION:2.0
PRODID:nkc_event TYPO3 Extension
METHOD:PUBLISH
BEGIN:VEVENT
UID:072c212034484430e749094dc4096054
LOCATION:Jakobikirche Kiel
SUMMARY:Taizéandacht
DESCRIPTION:
CLASS:PUBLIC
DTSTART:20260520T170000Z
DTEND:20260520T180000Z
DTSTAMP:20260422T123316Z
END:VEVENT

END:VCALENDAR