BEGIN:VCALENDAR
VERSION:2.0
PRODID:nkc_event TYPO3 Extension
METHOD:PUBLISH
BEGIN:VEVENT
UID:92a23614929d6c297406a4d3dab0fa2f
LOCATION:St.-Laurentius-Kirche Schönberg
SUMMARY:40. Schönberger Musiksommer - Landesjugendorchester Mecklenburg-Vorpommern
DESCRIPTION:Das Landesjugendorchester Mecklenburg-Vorpommern ermöglicht den begabtesten Nachwuchsmusikern zwischen 14 und 21 Jahren das Zusammenspiel in einem großen sinfonischen Orchester. Dabei wird sinfonische Weltliteratur unter professioneller Leitung erarbeitet. Die 70 bis 90 jungen Leute sind größtenteils Schüler":"innen aus den Musikschulen des Landes\, aber auch Student":"innen der Hochschule für Musik und Theater Rostock. Das Orchester kommt jährlich zu zwei Proben- und Konzertphasen zusammen. Bei täglich mehreren Proben leiten erfahrene Orchestermusiker":"innen aus den Sinfonieorchestern des Landes die Registerproben.Mit ihrem Dirigenten Stanley Dodds war das Orchester schon viele Male im Schönberger Musiksommer zu Gast – ein Höhepunkt für alle Beteiligten\, denn hier spielen die jungen Musikerinnen und Musiker besonders gern und treffen auf ein aufmerksames und begeistertes Publikum.Gastsolist ist in diesem Jahr der luxemburgische Cellist Benjamin Kruithof. Er zählt zu den vielversprechendsten Nachwuchskünstlern seiner Generation und wurde spätestens mit dem Gewinn des George Enescu International Competition international bekannt. Als „Rising Star“ der European Concert Hall Organisation (2024/25) begeistert er auf führenden europäischen Bühnen und etabliert sich mit seinem ausdrucksstarken Spiel als prägende Stimme der jungen Celloszene.
CLASS:PUBLIC
DTSTART:20260721T180000Z
DTEND:20260721T190000Z
DTSTAMP:20260419T144443Z
END:VEVENT

END:VCALENDAR