BEGIN:VCALENDAR
VERSION:2.0
PRODID:nkc_event TYPO3 Extension
METHOD:PUBLISH
BEGIN:VEVENT
UID:d73aa0145e701431a22bbf0100df708e
LOCATION:Kleine Stadtkirche
SUMMARY:Gottesdienst\, Pastorin Parra
DESCRIPTION:
CLASS:PUBLIC
DTSTART:20260208T083000Z
DTEND:20260208T093000Z
DTSTAMP:20260423T085340Z
END:VEVENT

END:VCALENDAR