BEGIN:VCALENDAR
VERSION:2.0
PRODID:nkc_event TYPO3 Extension
METHOD:PUBLISH
BEGIN:VEVENT
UID:9e3efb324fbeddb1d9c9ea6fe25417a5
LOCATION:Gemeindehaus Papenstraße
SUMMARY:The Chosen (deutsch":" Die Auserwählten)
DESCRIPTION:Jesus als Serienheld? Das bisher erfolgreichste Fundraising-Projekt sprengt viele Grenzen. Über alle Themen und in allen Genres werden heutzutage Serien produziert. Warum nicht auch über das Leben Jesu. So dachten es sich wohl zumindest Dalles Jenkins (Idee) und Chad Gunderson und Justin Tolley (Produktion) und setzten ein Fundraising-Projekt in Gang\, um eine Serie über Jesus zu produzieren.„The Chosen“ ist die erste Serien-Verfilmung über das Leben von Jesus mit mehreren Staffeln\, und zugleich das erfolgreichste durch Crowdfunding finanzierte Filmprojekt (über 16.000 Beteiligte) aller Zeiten. Die Serie hat sich binnen eines Jahres zu einer Weltsensation entwickelt\, die viele Millionen Fans gefunden hat. Nun gibt es die erste Staffel auch in deutscher Sprache auf DVD und Blu-ray.“ So lautet der Werbetext für das Projekt\, von dem es bisher 4 Staffeln gibt\, die kostenlos über die gleichnamige App abzurufen sind.                             Während der Passionszeit zeigen wir                      im Gemeindesaal auf der großen Leinwand die 2. Staffel der Serie  „The Chosen“. Wir starten am  9. März 2025 um 14":"30 Uhr  mit der ersten Folge der 2. Staffel.Die Serie wurde/wird durch Spenden                       finanziert und ist für jeden Menschen frei                           zugänglich. Info":" Per App (The Chosen) lässt sich die Serie in über 50 Sprachen aufs Smartphone laden.  Die APP beinhaltet alle Folgen der „bisher“ 4 Staffeln\, die dort kostenlos angesehen werden können. (Apple App Store oder Google Play Store)Die Serie ist auf insgesamt 7 Staffeln ausgelegt.Zusätzlich gibt es auch 2 Sonderfolgen\, die zum einen die Geschichte von Josef und Maria erzählen und zum anderen\, die Weihachtsgeschichte aus der Sicht der Hirten\, als diese den Stern von Bethlehem entdecken.Der Eintritt ist frei und für Getränke wird gesorgt. Wir freuen uns auf Sie und auf Euch!Mike\, Matthias und Freddy Kontakt für Fragen oder Anregungen   Mike Bantin  Mail":" m.bantin@kirche-in-eilbek.de Telefon":" 040 - 696 358 360Mehr zur Serie unter https":"//www.the-chosen.net                                                                        
CLASS:PUBLIC
DTSTART:20250330T123000Z
DTEND:20250330T133000Z
DTSTAMP:20260420T210447Z
END:VEVENT

END:VCALENDAR