BEGIN:VCALENDAR
VERSION:2.0
PRODID:nkc_event TYPO3 Extension
METHOD:PUBLISH
BEGIN:VEVENT
UID:7ca689c63b98b29ec031e8d1dfed4c71
LOCATION:Ev.-Luth. Kirchengemeinde St. Jürgen/Horst
SUMMARY:Andacht PLatt meets Pop
DESCRIPTION:Wir laden herzlich ein zu unserem Gottesdienst ab 9":"30 Uhr in der St. Jürgen Kirchengemeinde in Horst. Alle Informationen zu Gottesdiensten und Veranstaltungen finden Sie außerdem auf unserer Website der Kirchengemeinde Horst. Wir freuen uns auf Ihren Besuch!
CLASS:PUBLIC
DTSTART:20260422T163000Z
DTEND:20260422T173000Z
DTSTAMP:20260420T141826Z
END:VEVENT

END:VCALENDAR