BEGIN:VCALENDAR
VERSION:2.0
PRODID:nkc_event TYPO3 Extension
METHOD:PUBLISH
BEGIN:VEVENT
UID:cd7eada42a5d4f3ab57ebf2d56db22b3
LOCATION:St. Marien Sörup
SUMMARY:Choralblasen vom Kirchturm und DQUOTEMehrDQUOTE
DESCRIPTION:Jeden Sonnabend um 15 Uhr treffen wir uns am Kirchturm\, hören einen Choral\, Texte und DQUOTEMehrDQUOTE. Bei schlechtem Wetter nutzen wir den Kirchenraum. Herzliche Willkommen! Christiane Klang
CLASS:PUBLIC
DTSTART:20260221T140000Z
DTEND:20260221T150000Z
DTSTAMP:20260423T085434Z
END:VEVENT

END:VCALENDAR