BEGIN:VCALENDAR
VERSION:2.0
PRODID:nkc_event TYPO3 Extension
METHOD:PUBLISH
BEGIN:VEVENT
UID:3f79f84bebb1bb36f027fe1108458213
LOCATION:St. Ansgar - Mürwik
SUMMARY:Hl. Messe
DESCRIPTION:
CLASS:PUBLIC
DTSTART:20260425T163000Z
DTEND:20260425T173000Z
DTSTAMP:20260423T141759Z
END:VEVENT

END:VCALENDAR