BEGIN:VCALENDAR
VERSION:2.0
PRODID:nkc_event TYPO3 Extension
METHOD:PUBLISH
BEGIN:VEVENT
UID:0ba22ccd2e6f3454143b1702c92973a4
LOCATION:Flintbek
SUMMARY:Offenes Singen im Mai - Flintbek singt!
DESCRIPTION:Schöne Maillieder\, ChormusikEs singt Kirchenchor FlintbekLeitung":" Tomasz Harkot
CLASS:PUBLIC
DTSTART:20260501T090000Z
DTEND:20260501T100000Z
DTSTAMP:20260419T081459Z
END:VEVENT

END:VCALENDAR