BEGIN:VCALENDAR
VERSION:2.0
PRODID:nkc_event TYPO3 Extension
METHOD:PUBLISH
BEGIN:VEVENT
UID:4071ca85ad2d5ef590ad3c10aedf00b2
LOCATION:Gemeindehaus Kirchberg 7
SUMMARY:Kirchengemeindekaffee
DESCRIPTION:Immer am 2. Donnerstag im Monat laden wir zum beliebten Kaffeenachmittag von 15":"00 bis 17":"00 Uhr zum lockeren Beisammensein in unser Gemeindehaus am Kirchberg 7 in Bad Oldesloe ein. Das Team um Astrid Voß-Scherrer sorgt für Kaffee\, Kuchen\, interessante Gesprächsthemen und Unterhaltsames. \nDie geplanten Termine sind im Jahr 2026":"Donnerstag\,   10. September Donnerstag\,     8. Oktober Donnerstag\,   12. November Donnerstag\,   10. DezemberDie Teilnahme ist kostenfrei.\n
CLASS:PUBLIC
DTSTART:20260910T130000Z
DTEND:20260910T150000Z
DTSTAMP:20260420T164245Z
END:VEVENT

END:VCALENDAR