BEGIN:VCALENDAR
VERSION:2.0
PRODID:nkc_event TYPO3 Extension
METHOD:PUBLISH
BEGIN:VEVENT
UID:f01fd7ef0c35ea00dcc724ba5a34eb6f
LOCATION:St. Marien
SUMMARY:Wort zum Alltag mit Chormusik (anschl. Kirchenführung)
DESCRIPTION:Wunderbare Chormusik mit dem Vokalensemble Lübeck (Leitung":" Karl Hänsel) und ein Wort-Impuls in der Mutterkirche der Backsteingotik. Ihr seid uns herzlich willkommen!
CLASS:PUBLIC
DTSTART:20260502T100000Z
DTEND:20260502T110000Z
DTSTAMP:20260425T010240Z
END:VEVENT

END:VCALENDAR