BEGIN:VCALENDAR
VERSION:2.0
PRODID:nkc_event TYPO3 Extension
METHOD:PUBLISH
BEGIN:VEVENT
UID:cade0699ec58be413ffc7d55d91f5ceb
LOCATION:Curauer Kirche
SUMMARY:Konfirmationsgottesdienst mit Kirchenband
DESCRIPTION:Sie sind herzlich willkommen!
CLASS:PUBLIC
DTSTART:20260509T080000Z
DTEND:20260509T090000Z
DTSTAMP:20260422T041134Z
END:VEVENT

END:VCALENDAR