BEGIN:VCALENDAR
VERSION:2.0
PRODID:nkc_event TYPO3 Extension
METHOD:PUBLISH
BEGIN:VEVENT
UID:c5c07dea094a36bc52245ffe13bce215
LOCATION:Petruskirche Kiel-Wik
SUMMARY:Gottesdienst zum Palmsonntag mit Abendmahl
DESCRIPTION:
CLASS:PUBLIC
DTSTART:20260329T083000Z
DTEND:20260329T093000Z
DTSTAMP:20260423T085348Z
END:VEVENT

END:VCALENDAR