BEGIN:VCALENDAR
VERSION:2.0
PRODID:nkc_event TYPO3 Extension
METHOD:PUBLISH
BEGIN:VEVENT
UID:d6154d8363ed3c142beb14d1d910b7e6
LOCATION:Hl Dreieinigkeitskirche (St. Georgskirche)
SUMMARY:Kindermusical DQUOTEUnter dem MeerDQUOTE
DESCRIPTION:
CLASS:PUBLIC
DTSTART:20260620T130000Z
DTEND:20260620T140000Z
DTSTAMP:20260420T152100Z
END:VEVENT

END:VCALENDAR