BEGIN:VCALENDAR
VERSION:2.0
PRODID:nkc_event TYPO3 Extension
METHOD:PUBLISH
BEGIN:VEVENT
UID:a164c79c6e96d54932edb28a1617aa70
LOCATION:Ev. Kirchengemeinde Brandshagen
SUMMARY:Seminar für fortgeschrittene Bläser
DESCRIPTION:Info und Anmeldung":" www.posaunenwerk-emvau.de
CLASS:PUBLIC
DTSTART:20260828T080000Z
DTEND:20260830T180000Z
DTSTAMP:20260422T032326Z
END:VEVENT

END:VCALENDAR