BEGIN:VCALENDAR
VERSION:2.0
PRODID:nkc_event TYPO3 Extension
METHOD:PUBLISH
BEGIN:VEVENT
UID:3c23c816f487ff47e4509edaaddb5f49
LOCATION:https://Kirche Sasel youtube Rubrik LIVE
SUMMARY:Gottesdienst
DESCRIPTION:
CLASS:PUBLIC
DTSTART:20260531T073000Z
DTEND:20260531T083000Z
DTSTAMP:20260424T132429Z
END:VEVENT

END:VCALENDAR