BEGIN:VCALENDAR
VERSION:2.0
PRODID:nkc_event TYPO3 Extension
METHOD:PUBLISH
BEGIN:VEVENT
UID:1e1cad332076df654acf41bbdb31fa2c
LOCATION:Osterberg Seminarhotel
SUMMARY:Wegweiser-Seminar  September 2026  Osterberg am Plöner See Schwerpunktthema":" Alles und Erntedank
DESCRIPTION:Wenn SuS dich fragen":" Glauben Sie an die Schöpfung? Ich glaube an den Urknall! Wofür soll ich Gott danken? Das täglich Brot kommt aus dem Supermarkt!Was antwortest du da?In diesem Seminar ist Platz für die spielerische Erforschung von persönlichem Glauben und produktivem Zweifel am System Kirche. Mit hundertprozentiger Verschwiegenheit in geschütztem Rahmen kann an eigenen Glaubenspositionen rumgedacht und an Formulierungen gefeilt werden\, die sich im Kontext Schule authentisch anfühlen. Hier gibt es Raum für die entschleunigte Rollenklärung\, Übungen zu Präsenz\, Körpersprache und professionellem Stimmeinsatz. Mit Spaß\, Gruppendynamik und viel Freiraum. Und das alles mit Vollpension\, in schöner Natur und mit anderen Reli-Studierenden aus der ganzen Nordkirche.Ihr übernachtet in Zweibettzimmern in dem wunderschönen und individuell gestalteten Seminarhaus am Osterberg. Unterkunft und Verpflegung übernimmt die Nordkirche. Herzliche Einladung! Fahrtkosten übernehmt ihr\, könnt dann aber 50% zur Erstattung einreichen. Bis max. 100 Euro.Vielleicht könnt ihr euch dafür Praxis-Stunden anrechnen lassen? Fragt doch mal bei euren Dozierenden nach!Ein Seminar für den zweiten Teil des doppelten Religionsbegriffs. Für dein Standing als engagierte Reli-Lehrkraft mit Kopf\, Herz\, Hand und Füßen! Zusammen mit Studierenden aus drei Bundesländern.Bitte beachte":" Wenn du dich angemeldet hast und innerhalb der letzten 4 Wochen vor Veranstaltungsbeginn deine Teilnahme stornierst\, müssen wir dir leider 140 Euro Ausfallgebühr berechnen\, sofern es keine":"n Nachrücker":"in gibt.
CLASS:PUBLIC
DTSTART:20260901T100000Z
DTEND:20260903T140000Z
DTSTAMP:20260420T040805Z
END:VEVENT

END:VCALENDAR