BEGIN:VCALENDAR
VERSION:2.0
PRODID:nkc_event TYPO3 Extension
METHOD:PUBLISH
BEGIN:VEVENT
UID:731e5c8c896067ce9ae8b02919159b0d
LOCATION:Ev.-luth. Kirchengemeinde St. Markus-Hoheluft
SUMMARY:Kantorei-Konzert":" 4 vs. 40
DESCRIPTION:Johann Sebastian Bach":" Der Geist hilft unsrer Schwachheit aufHeinrich Schütz":" Jauchzet dem Herren\, Es gingen zweene Menschen\, Lobe den Herren\, meine SeeleJacob Gallus":" Duo Seraphim
CLASS:PUBLIC
DTSTART:20250720T160000Z
DTEND:20250720T170000Z
DTSTAMP:20260423T102809Z
END:VEVENT

END:VCALENDAR