BEGIN:VCALENDAR
VERSION:2.0
PRODID:nkc_event TYPO3 Extension
METHOD:PUBLISH
BEGIN:VEVENT
UID:9d1ddbd2f051eb42a7af6f40ef07fed4
LOCATION:Hauptkirche St. Jacobi
SUMMARY:Mein Lieblingsstück
DESCRIPTION:In dieser Reihe stellen Persönlichkeiten aus Kultur\, Kirche und Stadtgesellschaft ein Werk vor\, das sie besonders geprägt hat. An der Arp-Schnitger-Orgel von St. Jacobi erklingt es als Ausgangspunkt für ein persönliches Gespräch über Musik und Lebensweg.
CLASS:PUBLIC
DTSTART:20260421T180000Z
DTEND:20260421T190000Z
DTSTAMP:20260420T114629Z
END:VEVENT

END:VCALENDAR