BEGIN:VCALENDAR
VERSION:2.0
PRODID:nkc_event TYPO3 Extension
METHOD:PUBLISH
BEGIN:VEVENT
UID:072c39d07108dc096b19387b1e651b61
LOCATION:Hl Dreieinigkeitskirche (St. Georgskirche)
SUMMARY:Kantaten Gottesdienst
DESCRIPTION:
CLASS:PUBLIC
DTSTART:20260503T090000Z
DTEND:20260503T100000Z
DTSTAMP:20260420T152052Z
END:VEVENT

END:VCALENDAR