BEGIN:VCALENDAR
VERSION:2.0
PRODID:nkc_event TYPO3 Extension
METHOD:PUBLISH
BEGIN:VEVENT
UID:9e36d1dc772ef78e2dbd175606dec6ee
LOCATION:Verein für Jugend- und Kulturarbeit Bad Segeberg
SUMMARY:Gitarrenwochenende
DESCRIPTION:Du möchtest Deine Lieblingssongs sicher und auf kreative Weise auf der Gitarre begleiten? Genau darum geht es in diesem Workshop! Unabhängig vom Erfahrungsstand bietet sich hier die Gelegenheit\, das eigene Gitarrenspiel auf ein neues Niveau zu heben. Erfahrene Dozent":"innen begleiten Dich durch den Workshop und unterstützen individuell mit praxisnahen Tipps\, inspirierenden Übungen und wertvollen Einblicken in die Welt der Gitarrenbegleitung. Ob beim Einstieg ins Gitarrenspiel oder mit bereits vorhandener Spielerfahrung – neue Techniken\, Ideen und musikalische Impulse warten darauf\, entdeckt zu werden.Ziele\nMehr Vielseitigkeit im Spiel entwickeln\nBegleitungen abwechslungsreicher und interessanter gestalten\nAkkordverständnis vertiefen\nEffektive Übetechniken kennenlernen und Spaß am Üben fördern\nSchnellere Fortschritte beim Spielen erzielen\nInhalte\nVerschiedene Anschlags- und Pickingtechniken\nTipps & Tricks zur Aufwertung einfacher Begleitungen\nStilistische Vielfalt und Akkorderweiterungen\nÜbemethoden & Motivation\nMelodiespiel und erste Schritte in die Improvisation\nErarbeiten neuer Songs\nIndividuelle Förderung und spontane Themenaufnahme\nZielgruppe & VoraussetzungenDer Kurs richtet sich an":"\nEinsteiger":"innen\, die bereits 2–3 Akkorde sicher greifen können\nFortgeschrittene\, die mit eigenen Fragen und Themen am Workshop teilnehmen möchten\nBei Bedarf werden die Gruppen nach Niveau aufgeteilt\, um gezielt auf unterschiedliche Erfahrungsstände einzugehen.  Bitte gib bei der Anmeldung an\, welcher Niveaugruppe du dich zuordnest.Wann":" 28.-30.08.2026Wo":" VJKA Bad SegebergWieviel":" 360€ (plus 30€ Aufschlag wenn du ein Einzelzimmer möchtest)Bitte mitbringen":" Eigene Gitarre\, Stimmgerät\, NotenständerLeitung":" Ingo Hassenstein und Hartmut NaumannANMELDUNG":" bis zum 26.06.2026 gleich hier mit unserem Formular*Eine kostenfreie Stornierung ist nach verbindlicher Anmeldung bis einschließlich zum 26.06.2026 möglich. Andernfalls wird die Hälfte der Anmeldegebühr in Rechnung gestellt.
CLASS:PUBLIC
DTSTART:20260828T100000Z
DTEND:20260830T130000Z
DTSTAMP:20260421T235239Z
END:VEVENT

END:VCALENDAR