BEGIN:VCALENDAR
VERSION:2.0
PRODID:nkc_event TYPO3 Extension
METHOD:PUBLISH
BEGIN:VEVENT
UID:98a0b251635f7c8e1ca59f4f2f4044bb
LOCATION:Hl Dreieinigkeitskirche (St. Georgskirche)
SUMMARY:Ausstellungseröffnung DQUOTEThis is me! - Queer und religiös?DQUOTE
DESCRIPTION:Wir laden herzlich zur Vernissage am 25. Mai um 18 Uhr ein\, wo wir unter andere die Fotografin der Ausstellung Ceren Saner und Präses unserer Synode Anja Fährmann zu Gast haben.Die DQUOTEkantorei st.georgDQUOTE gestaltet den Abend musikalisch. Im Anschluss laden wir zum Austausch bei einem kleinen Imbiss.
CLASS:PUBLIC
DTSTART:20260525T160000Z
DTEND:20260525T170000Z
DTSTAMP:20260420T152939Z
END:VEVENT

END:VCALENDAR